BEGIN:VCALENDAR
VERSION:2.0
PRODID:-//St. Augustine Guest Houses - ECPv6.6.4.2//NONSGML v1.0//EN
CALSCALE:GREGORIAN
METHOD:PUBLISH
X-WR-CALNAME:St. Augustine Guest Houses
X-ORIGINAL-URL:https://www.staugustineguesthouse.com
X-WR-CALDESC:Events for St. Augustine Guest Houses
REFRESH-INTERVAL;VALUE=DURATION:PT1H
X-Robots-Tag:noindex
X-PUBLISHED-TTL:PT1H
BEGIN:VTIMEZONE
TZID:America/New_York
BEGIN:DAYLIGHT
TZOFFSETFROM:-0500
TZOFFSETTO:-0400
TZNAME:EDT
DTSTART:20200308T070000
END:DAYLIGHT
BEGIN:STANDARD
TZOFFSETFROM:-0400
TZOFFSETTO:-0500
TZNAME:EST
DTSTART:20201101T060000
END:STANDARD
END:VTIMEZONE
BEGIN:VEVENT
DTSTART;TZID=America/New_York:20200207T170000
DTEND;TZID=America/New_York:20200207T210000
DTSTAMP:20260426T020056
CREATED:20200204T050900Z
LAST-MODIFIED:20200207T055410Z
UID:11650-1581094800-1581109200@www.staugustineguesthouse.com
SUMMARY:First Friday Art Walk featuring Margaret Juul
DESCRIPTION:Sea Spirits Gallery & Gifts is excited to feature the alluring works of artist Margaret Juul. Join us this Friday for First Friday Art Walk\, February 7th\, 5-9pm. Enjoy the artist’s original paintings and lithographs in addition to a stunning gallery of sea-inspired treasures! \nMargaret Juul is a Florida based painter with a keen eye for design. She is interested in the movement quality of the ocean\, depicted in a way that marries abstraction and representation. From underwater perspectives to waves crashing on the water’s surface\, her paintings investigate the kinetic energy of the sea. \nJuul’s paintings of water in motion will bring energy and life to any home or business. Find the perfect piece for your own space while they are available!
URL:https://www.staugustineguesthouse.com/event/first-friday-art-walk-featuring-margaret-juul/
LOCATION:Sea Spirits Gallery & Gifts\, 210 St. George Street\, St. Augustine\, FL\, 32084\, United States
CATEGORIES:Arts & Culture,Community,Free
ATTACH;FMTTYPE=image/jpeg:https://www.staugustineguesthouse.com/wp-content/uploads/2020/02/WatchthatWave-Web.jpg
ORGANIZER;CN="Sea Spirits Gallery &amp%3B Gifts":MAILTO:seaspiritsgallery@gmail.com
END:VEVENT
BEGIN:VEVENT
DTSTART;TZID=America/New_York:20200207T170000
DTEND;TZID=America/New_York:20200207T210000
DTSTAMP:20260426T020056
CREATED:20200204T050902Z
LAST-MODIFIED:20200207T055410Z
UID:11652-1581094800-1581109200@www.staugustineguesthouse.com
SUMMARY:Jacko Vassilev First Friday Exposition
DESCRIPTION:Join us for our Jacko Vassilev First Friday Art Walk Exposition featuring his iconic Bulgarian photography from the Soviet era. Jacko will be joining us for the night from 5-9 pm to speak about his experiences and show us the world through his lens. \n“Photography is a tool that I use to breach borders\, no regimes\, no walls\, no corruption politicians. As long as I can walk and see I will photograph mankind. This is my gift to future generations.”
URL:https://www.staugustineguesthouse.com/event/jacko-vassilev-first-friday-exposition/
LOCATION:Lost Art Gallery\, C-1\, 210 St George Street\, St. Augustine\, FL\, 32084\, United States
CATEGORIES:Arts & Culture,Community,Free,History
ATTACH;FMTTYPE=image/jpeg:https://www.staugustineguesthouse.com/wp-content/uploads/2020/02/Jacko-Vassilev-First-Friday-Exposition.jpg
ORGANIZER;CN="Lost Art Gallery":MAILTO:lostartgallery@gmail.com
END:VEVENT
END:VCALENDAR