BEGIN:VCALENDAR
VERSION:2.0
PRODID:-//St. Augustine Guest Houses - ECPv6.6.4.2//NONSGML v1.0//EN
CALSCALE:GREGORIAN
METHOD:PUBLISH
X-WR-CALNAME:St. Augustine Guest Houses
X-ORIGINAL-URL:https://www.staugustineguesthouse.com
X-WR-CALDESC:Events for St. Augustine Guest Houses
REFRESH-INTERVAL;VALUE=DURATION:PT1H
X-Robots-Tag:noindex
X-PUBLISHED-TTL:PT1H
BEGIN:VTIMEZONE
TZID:America/New_York
BEGIN:DAYLIGHT
TZOFFSETFROM:-0500
TZOFFSETTO:-0400
TZNAME:EDT
DTSTART:20200308T070000
END:DAYLIGHT
BEGIN:STANDARD
TZOFFSETFROM:-0400
TZOFFSETTO:-0500
TZNAME:EST
DTSTART:20201101T060000
END:STANDARD
END:VTIMEZONE
BEGIN:VEVENT
DTSTART;TZID=America/New_York:20200201T083000
DTEND;TZID=America/New_York:20200201T120000
DTSTAMP:20260426T020054
CREATED:20200106T221123Z
LAST-MODIFIED:20200201T042720Z
UID:11219-1580545800-1580558400@www.staugustineguesthouse.com
SUMMARY:Conquer the Trails 5K
DESCRIPTION:Are you ready Conquer the Trails?? – this is a road race in the beautiful natural settings of the Trailmark Community \nJoin us for the 3rd Annual Conquer the Trails-5k race on February 1st\nThis professionally chip timed by Florida Race Day 5k race takes place in the scenic TrailMark Community Center at 805 Trailmark Drive\, St. Augustine\, FL 32092 The race starts at 9 am. Packet pick up is at Trailmark’s amenity center race morning between 8:00 am – 8:45 am
URL:https://www.staugustineguesthouse.com/event/conquer-the-trails-5k/
LOCATION:TrailMark Community\, 805 TrailMark Drive\, St. Augustine\, FL\, 32092
CATEGORIES:Community,Family,For Kids,For Seniors,Fundraisers,Health And Wellness
ATTACH;FMTTYPE=image/png:https://www.staugustineguesthouse.com/wp-content/uploads/2020/01/Conquer-the-Trails-.png
ORGANIZER;CN="GreenPointe Communities":MAILTO:gjames@GreenPointeLLC.com
END:VEVENT
END:VCALENDAR