BEGIN:VCALENDAR
VERSION:2.0
PRODID:-//St. Augustine Guest Houses - ECPv6.6.4.2//NONSGML v1.0//EN
CALSCALE:GREGORIAN
METHOD:PUBLISH
X-ORIGINAL-URL:https://www.staugustineguesthouse.com
X-WR-CALDESC:Events for St. Augustine Guest Houses
REFRESH-INTERVAL;VALUE=DURATION:PT1H
X-Robots-Tag:noindex
X-PUBLISHED-TTL:PT1H
BEGIN:VTIMEZONE
TZID:America/New_York
BEGIN:DAYLIGHT
TZOFFSETFROM:-0500
TZOFFSETTO:-0400
TZNAME:EDT
DTSTART:20210314T070000
END:DAYLIGHT
BEGIN:STANDARD
TZOFFSETFROM:-0400
TZOFFSETTO:-0500
TZNAME:EST
DTSTART:20211107T060000
END:STANDARD
END:VTIMEZONE
BEGIN:VEVENT
DTSTART;TZID=America/New_York:20210321T130000
DTEND;TZID=America/New_York:20210321T130000
DTSTAMP:20260425T121113
CREATED:20210313T210554Z
LAST-MODIFIED:20210321T213333Z
UID:15562-1616331600-1616331600@www.staugustineguesthouse.com
SUMMARY:Sundays with SAMF
DESCRIPTION:While SAMF is still faced with pandemic challenges we continue to plan SAMF2021 our Signature Series of World Class Music in a World Class Setting\, Cathedral Basilica. We are not quite ready to announce and publicize our SAMF 2021 Festival Live just yet\, but there are some wonderful things happening. \nSAMF is pleased to announce a new concert series SUNDAYS with SAMF. These events are in partnership with historic and cultural venues in St. Augustine supported by The Saint John’s Cultural Council and our generous donors and patrons. We begin with two Sunday afternoon concerts at Peña-Peck House collaborating with The Women’s Exchange on March 21st and March 28th at 1:00 pm (https://penapeckhouse.com/ ). \nThese events will be outdoors\, socially distanced seating\, and masked. The concerts are free\, however\, with limited seating\, these will be ticketed events. Tickets can be reserved on the SAMF website: www.SAMFestival.org. \nThe program and program notes are also available to download on the website.Please join us and share the SAMF experience. Your continued support will help us continue SUNDAYS with SAMF through the summer and fall of 2021 and into 2022\, allow our Signature Series to grow and bring you the music and experience you have come to enjoy from SAMF.https://www.staugustinemusicfestival.org/support/ \nSAMF is delighted to collaborate with The Woman’s Exchange of St. Augustine at the historic Peña-Peck House to present their first two SUNDAYS with SAMF afternoon concerts\, March 21st and March 28th. https://penapeckhouse.com/the-womans-exhange/\nwww.SAMFestival.org\n\nMembers of the Woman’s Exchange of St. Augustine are committed to the mission of “women helping women.”\n\nThe Woman’s Exchange of St. Augustine\, founded in 1892\, is a non-profit organization and part of the National Federation of Woman’s Exchanges.\n\nHistory of Federation of Woman’s Exchanges\nFederation members follow in the footsteps of women in the 19th century who began Woman’s Exchanges to help other women who had fallen on hard times. These women discretely placed their handmade items and home-cooked food in Exchanges where they were sold. Like the St. Augustine Exchange\, a number of those 19th-century Woman’s Exchanges are still in business today and are members of the Federation.\n\nWhat They Do\nMembers of the Woman’s Exchange of St. Augustine work to support the Peña-Peck House Museum\, to give hand-crafters a venue for selling their products\, and to provide scholarships for deserving women who are returning to school to prepare for new careers. To accomplish our goals\, we raise funds from guided tours\, gift shop sales\, luncheons\, weddings\, receptions\, and other special events.
URL:https://www.staugustineguesthouse.com/event/sundays-with-samf/
LOCATION:Pena-Peck House\, 143 St George Street\, St. Augustine\, FL\, 32084\, United States
CATEGORIES:Arts & Culture,Concerts,Free,Live Entertainment,Music
ATTACH;FMTTYPE=image/jpeg:https://www.staugustineguesthouse.com/wp-content/uploads/2021/03/SAM-Festival-rvFGwT.tmp_.jpg
END:VEVENT
BEGIN:VEVENT
DTSTART;TZID=America/New_York:20210321T150000
DTEND;TZID=America/New_York:20210321T150000
DTSTAMP:20260425T121113
CREATED:20210226T190440Z
LAST-MODIFIED:20210321T213333Z
UID:15419-1616338800-1616338800@www.staugustineguesthouse.com
SUMMARY:Florida Chamber Music Project to perform Johannes Brahms
DESCRIPTION:Ponte Vedra Concert Hall is pleased to announce that the Florida Chamber Music Project (FCMP) will perform Johannes Brahms for a limited-capacity performance with distanced\nseating on Sunday\, March 21\, 2021 at 3pm. Enhanced safety measures and protocols are in place\, including contactless digital ticketing and face covering requirements. Tickets for Florida Chamber Music Project will go on sale today\, Thursday\, February 25 at 12:00pm online at Ticketmaster.com. Please note Ponte Vedra Concert Hall Box Office remains closed at this time. \nCurrently in their eighth season\, the Florida Chamber Music Project will perform Johannes Brahms’ Klavierstucke\, Opus 118 and Piano Quartet No.1 in G minor\, Op.25\, featuring Hyunsoon Whang on piano. Whang and FCMP Artistic Director\, Susan Pardue\, met when they both studied at the North Carolina School of the Arts. Whang’s live videos have been airing on PBS television stations throughout the Midwest. She serves on the Touring Artists\nRoster of the Oklahoma Arts Council and has received The Oklahoma Governor’s Arts in Education Award. This performance marks the third appearance of Hyunsoon Whang with the FCMP. \n“We are pleased to be able to perform again at the Ponte Vedra Concert Hall\,” said Pardue. “These difficult times make music even more important.” \nThe Florida Chamber Music Project provides live classical music in an intimate chamber music setting for residents of St. Johns County\, St. Augustine\, Clay County and the surrounding areas of Jacksonville and Northeast Florida. The primary purpose of the Florida Chamber Music Project is to foster and encourage the presentation of classical\nchamber music; to present and sponsor presentation of classical chamber music by highly qualified professional musicians; to increase awareness of classical chamber music in the State of Florida in general and in North Florida in particular and to provide educational institutions with opportunities to educate students of all kinds concerning\nthe nature and value of classical chamber music and its performance. \nTickets for Florida Chamber Music Project go on sale today\, Thursday February 25 at 12pm online at Ticketmaster.com. Please note Ponte Vedra Concert Hall Box Office remains closed at this time. Tickets are sold in pre-configured pods (groupings) ranging from two to six seats per pod. Each pod is at least six feet from one to the next\, and all seats within the pod must be purchased together. Additionally\, all tickets are digital. The St. Augustine\nAmphitheatre Box Office will be open on Fridays from 10:00am-6:00pm and Saturdays from 8:30am-12:30pm\, and will only accept payment via debit or credit card.
URL:https://www.staugustineguesthouse.com/event/florida-chamber-music-project-to-perform-johannes-brahms/
LOCATION:Ponte Vedra Concert Hall\, 1050 A1A North\, Ponte Vedra\, 32082
CATEGORIES:Concerts,Live Entertainment,Music
ATTACH;FMTTYPE=image/jpeg:https://www.staugustineguesthouse.com/wp-content/uploads/2021/02/Florida-Chamber-Music-Project-Press-Photo-bmIhUg.tmp_.jpg
END:VEVENT
BEGIN:VEVENT
DTSTART;TZID=America/New_York:20210321T193000
DTEND;TZID=America/New_York:20210321T193000
DTSTAMP:20260425T121113
CREATED:20210225T184949Z
LAST-MODIFIED:20210321T213333Z
UID:15401-1616355000-1616355000@www.staugustineguesthouse.com
SUMMARY:BREAKTHROUGH BLUEGRASS PHENOM BILLY STRINGS
DESCRIPTION:Grammy-nominated singer\, songwriter and musician Billy Strings will take the stage at the St. Augustine Amphitheatre for three nights from Friday\, March 19 – Sunday\, March 21 for a special\, limited capacity\, physically distanced concert series. After performing numerous livestreams and drive-in concerts throughout 2020\, the newly confirmed dates will be Strings’ first in-person shows in over a year. \nTickets for the performances go on sale this Friday\, February 12 at 12:00pm. In order to protect those in attendance\, enhanced safety measures and protocols will be in place including contactless digital ticketing\, distanced seating\, face covering requirements and mobile ordering for concessions and merchandise. \nMichigan-born and now Nashville-based\, Billy Strings arrived on the music scene as one of the most compelling new artists with the release of his 2017 debut LP\, Turmoil & Tinfoil. Since his debut\, Strings has been awarded Guitar Player of the Year and New Artist of the Year at the 2019 International Bluegrass Music Awards\, selected as one of Rolling Stone’s 2017 “New Country Artists to Know” and performed on “Jimmy Kimmel Live!” and PBS’ “Bluegrass Underground.” Often playing over 200 shows per year\, he has also become known as an electric live performer\, keeping the improvisational tradition of bluegrass alive while incorporating elements of several diverse genres. WXPN’s World Café declares\, “a bona fide phenom…with his virtuosic guitar playing front and center\, Strings fuses bluegrass to psych rock\, country and jam music\, without fussing over what bluegrass should be.” \nThe event continues a breakthrough series of years for Strings\, who is nominated for Best Bluegrass Album at the 63rd Grammy Awards for his critically acclaimed new record\, Home. Out now on Rounder Records\, Home was produced by Glenn Brown (Greensky Bluegrass) and furthers Strings’ reputation as “one of string music’s most dynamic young stars” (Rolling Stone). Of the album\, Associated Press proclaims\, “it is his creative musical storytelling\, paired with solid vocals on Home that should seal the deal\, pleasing fans of the genre and creating some new ones…the perfect blend of pure talent and pluck\,” while The Wall Street Journal declares\, “Billy Strings has clearly emerged as a premier guitar flatpicker of this era.” Moreover\, Strings and the album topped Billboard’s 2020 year-end chart in both Bluegrass categories: Top Bluegrass Albums Artists and Top Bluegrass Albums Titles. \nThe St. Augustine shows are just the latest in a series of special performances by Strings\, who will kick off his six-night livestream event\, “The Déjà Vu Experiment\,” next Thursday\, February 18\, performing live from Port Chester\, NY’s The Capitol Theatre. Broadcasting February 18\, 19\, 20\, 21\, 23 and 24 at 9:00pm ET\, the first and last performances of the series will be available to view for free via The Relix Channel on Twitch\, while tickets\nfor the four additional shows can be purchased now at FANS. A portion of all proceeds will benefit two organizations: The Rex Foundation and Backline. \nTickets for Billy Strings goes on sale this Friday\, February 12 at 12:00pm and will be available for purchase at the St. Augustine Amphitheatre Box Office and online at Ticketmaster.com. The St. Augustine Amphitheatre Box Office will be open on Fridays from 10:00am-6:00pm and Saturdays from 8:30am-12:30pm\, and will only accept payment via debit or credit card.
URL:https://www.staugustineguesthouse.com/event/breakthrough-bluegrass-phenom-billy-strings-3/
LOCATION:St. Augustine Amphitheatre\, 1340 A1A South\, St. Augustine
CATEGORIES:Concerts,Live Entertainment,Music
ATTACH;FMTTYPE=image/png:https://www.staugustineguesthouse.com/wp-content/uploads/2021/02/Billy-Strings-Press-Photo-GKnTmX.tmp_.png
END:VEVENT
END:VCALENDAR