BEGIN:VCALENDAR
VERSION:2.0
PRODID:-//St. Augustine Guest Houses - ECPv6.6.4.2//NONSGML v1.0//EN
CALSCALE:GREGORIAN
METHOD:PUBLISH
X-ORIGINAL-URL:https://www.staugustineguesthouse.com
X-WR-CALDESC:Events for St. Augustine Guest Houses
REFRESH-INTERVAL;VALUE=DURATION:PT1H
X-Robots-Tag:noindex
X-PUBLISHED-TTL:PT1H
BEGIN:VTIMEZONE
TZID:America/New_York
BEGIN:DAYLIGHT
TZOFFSETFROM:-0500
TZOFFSETTO:-0400
TZNAME:EDT
DTSTART:20210314T070000
END:DAYLIGHT
BEGIN:STANDARD
TZOFFSETFROM:-0400
TZOFFSETTO:-0500
TZNAME:EST
DTSTART:20211107T060000
END:STANDARD
END:VTIMEZONE
BEGIN:VEVENT
DTSTART;TZID=America/New_York:20210313T100000
DTEND;TZID=America/New_York:20210313T140000
DTSTAMP:20260425T104301
CREATED:20210304T200451Z
LAST-MODIFIED:20210313T210611Z
UID:15498-1615629600-1615644000@www.staugustineguesthouse.com
SUMMARY:Makers Market “Celebrating National Craft Month”
DESCRIPTION:Come celebrate National Craft Month by shopping trendy\, artistic handcrafted goods from amazingly gifted artisans! For this event\, we are teaming up with STA City Market. You will get to support and experience some of the young entrepreneur’s creative work as well! Joe Targrove with The Music Mission will be the guest DJ for the market. Food Trucks for the day will be Nature’s Drip Café\, Damian’s Food Truck and Luvin’ Oven. Enjoy yummy cookie tastings from Chips Cookies Co. The first 50 people will receive a FREE take home craft-kit to make a decorative trinket box.\nSee you at the Barrel
URL:https://www.staugustineguesthouse.com/event/makers-market-celebrating-national-craft-month/
LOCATION:Coconut Barrel\, 3175 US Hwy 1 S\, Saint Augustine\, FL\, 32086\, United States
CATEGORIES:Arts & Culture,Community,Family,For Kids,Free,Live Entertainment
ATTACH;FMTTYPE=image/jpeg:https://www.staugustineguesthouse.com/wp-content/uploads/2021/03/national-craft-month-jqaisF.tmp_.jpg
ORGANIZER;CN="Coconut Barrel":MAILTO:coconutbarrel@gmail.com
END:VEVENT
END:VCALENDAR