BEGIN:VCALENDAR
VERSION:2.0
PRODID:-//St. Augustine Guest Houses - ECPv6.6.4.2//NONSGML v1.0//EN
CALSCALE:GREGORIAN
METHOD:PUBLISH
X-WR-CALNAME:St. Augustine Guest Houses
X-ORIGINAL-URL:https://www.staugustineguesthouse.com
X-WR-CALDESC:Events for St. Augustine Guest Houses
REFRESH-INTERVAL;VALUE=DURATION:PT1H
X-Robots-Tag:noindex
X-PUBLISHED-TTL:PT1H
BEGIN:VTIMEZONE
TZID:America/New_York
BEGIN:DAYLIGHT
TZOFFSETFROM:-0500
TZOFFSETTO:-0400
TZNAME:EDT
DTSTART:20200308T070000
END:DAYLIGHT
BEGIN:STANDARD
TZOFFSETFROM:-0400
TZOFFSETTO:-0500
TZNAME:EST
DTSTART:20201101T060000
END:STANDARD
END:VTIMEZONE
BEGIN:VEVENT
DTSTART;TZID=America/New_York:20201024T083000
DTEND;TZID=America/New_York:20201024T123000
DTSTAMP:20260425T213007
CREATED:20201011T051232Z
LAST-MODIFIED:20201024T082425Z
UID:14332-1603528200-1603542600@www.staugustineguesthouse.com
SUMMARY:Farmers Market at The Amp
DESCRIPTION:Join us every Saturday morning under the oaks out front for a gathering of St. Augustine’s finest growers\, artisans and artists. For 20 years this community event has brought together the region’s finest fresh food\, prepared goods and fine art. Shop for groceries and gifts\, grab a bite to eat or drink\, mingle with friends and stay for awhile to enjoy some old-time music from the Free Rangers on the Front Porch! \nMonthly Events at the Farmers Market: \n\n2nd and 4th Saturday of each month – The St. Johns County Public Library Bookmobile\n1st Saturday of each month at 9am – Yoga at the Market
URL:https://www.staugustineguesthouse.com/event/farmers-market-at-the-amp-32/
LOCATION:St. Augustine Amphitheatre\, 1340 A1A South\, St. Augustine
CATEGORIES:Community,Free,Health And Wellness,Live Entertainment
ATTACH;FMTTYPE=image/jpeg:https://www.staugustineguesthouse.com/wp-content/uploads/2018/05/st-augustine-farmers-market-at-amphitheatre_LR.jpg
END:VEVENT
BEGIN:VEVENT
DTSTART;TZID=America/New_York:20201024T193000
DTEND;TZID=America/New_York:20201024T210000
DTSTAMP:20260425T213007
CREATED:20201018T065354Z
LAST-MODIFIED:20201024T082427Z
UID:14450-1603567800-1603573200@www.staugustineguesthouse.com
SUMMARY:Coronacoaster Comedy
DESCRIPTION:A physically distanced\, socially awkward comedy show \nPart stand up comedy\, part improv comedy and all physically distanced and socially awkward\, Coronacoaster Comedy highlights local comedians in safe — and absurd ways. \nFor your protection:\n* No tickets will be sold at the door – pre-sales only.\n* Performers and patrons will be physically distanced.\n* The room will not go over 50% capacity (40 people).\n* The staff will be wearing masks and gloves.\n* Patrons are required to wear masks when not eating or drinking. \nLet’s stay safe\, and\, have some laughs – even if they are totally socially awkward! \nFor more info about improv in St. Augustine\, visit The Adventure Project at www.adventure-project.com.
URL:https://www.staugustineguesthouse.com/event/coronacoaster-comedy/
LOCATION:Corazon Cinema & Cafe\, 36 Granada Street\, Saint Augustine\, 32084
CATEGORIES:Live Entertainment
ATTACH;FMTTYPE=image/jpeg:https://www.staugustineguesthouse.com/wp-content/uploads/2020/10/coronacoaster-2Xm6rw.tmp_.jpg
ORGANIZER;CN="The Adventure Project":MAILTO:amy@adventure-project.com
END:VEVENT
END:VCALENDAR