BEGIN:VCALENDAR
VERSION:2.0
PRODID:-//St. Augustine Guest Houses - ECPv6.6.4.2//NONSGML v1.0//EN
CALSCALE:GREGORIAN
METHOD:PUBLISH
X-WR-CALNAME:St. Augustine Guest Houses
X-ORIGINAL-URL:https://www.staugustineguesthouse.com
X-WR-CALDESC:Events for St. Augustine Guest Houses
REFRESH-INTERVAL;VALUE=DURATION:PT1H
X-Robots-Tag:noindex
X-PUBLISHED-TTL:PT1H
BEGIN:VTIMEZONE
TZID:America/New_York
BEGIN:DAYLIGHT
TZOFFSETFROM:-0500
TZOFFSETTO:-0400
TZNAME:EDT
DTSTART:20200308T070000
END:DAYLIGHT
BEGIN:STANDARD
TZOFFSETFROM:-0400
TZOFFSETTO:-0500
TZNAME:EST
DTSTART:20201101T060000
END:STANDARD
END:VTIMEZONE
BEGIN:VEVENT
DTSTART;TZID=America/New_York:20201017T083000
DTEND;TZID=America/New_York:20201017T123000
DTSTAMP:20260425T213008
CREATED:20201011T051232Z
LAST-MODIFIED:20201017T063843Z
UID:14331-1602923400-1602937800@www.staugustineguesthouse.com
SUMMARY:Farmers Market at The Amp
DESCRIPTION:Join us every Saturday morning under the oaks out front for a gathering of St. Augustine’s finest growers\, artisans and artists. For 20 years this community event has brought together the region’s finest fresh food\, prepared goods and fine art. Shop for groceries and gifts\, grab a bite to eat or drink\, mingle with friends and stay for awhile to enjoy some old-time music from the Free Rangers on the Front Porch! \nMonthly Events at the Farmers Market: \n\n2nd and 4th Saturday of each month – The St. Johns County Public Library Bookmobile\n1st Saturday of each month at 9am – Yoga at the Market
URL:https://www.staugustineguesthouse.com/event/farmers-market-at-the-amp-31/
LOCATION:St. Augustine Amphitheatre\, 1340 A1A South\, St. Augustine
CATEGORIES:Community,Free,Health And Wellness,Live Entertainment
ATTACH;FMTTYPE=image/jpeg:https://www.staugustineguesthouse.com/wp-content/uploads/2018/05/st-augustine-farmers-market-at-amphitheatre_LR.jpg
END:VEVENT
BEGIN:VEVENT
DTSTART;TZID=America/New_York:20201017T120000
DTEND;TZID=America/New_York:20201017T210000
DTSTAMP:20260425T213008
CREATED:20201011T051109Z
LAST-MODIFIED:20201017T063844Z
UID:14273-1602936000-1602968400@www.staugustineguesthouse.com
SUMMARY:AS IF! The 90s Fest
DESCRIPTION:THIS EVENT WAS RESCHEDULED FROM MAY 16\, 2020.\n“As if! The 90s Fest” has been postponed to Oct 17 by request of the City of St.Augustine to comply with the State of Florida CDC guidelines. \nGetting a Refund\nRefund requests\, although our ticket states no refunds we have made a written exception wherein ticketholders who decline to join us at our new date who have paid will have the option to \nA) recieve a full refund processed the day of Oct 17 \nB) Join us with an upgrade to choose a complimentary 90’s souvenier from our merch table! \n  \n“The ‘90s was the last era where growing up was cool\,” says Jeanetta Salyer\, owner of Ancient City Entertainment and the organizer of the festival. “We want to throw it back to the days before everyone was staring at their phone. I like to call it a summer kickoff that lets adults feel like kids again and kids feel like\, well\, just that it’s going to be an amazing day that they can look forward to at the end of the school year every year.” \nAS IF! The 90’s Fest will be held on October 17 from 12 p.m. to 9 p.m. at Francis Field\, 25 West Castillo Drive in downtown St. Augustine. This action-packed\, family-oriented\, one-day event will feature live music\, games\, slime zone\, a Lisa Frank selfie station\, a 27-foot water slide\, food trucks\, and more. The event will feature 90s rock band Eve 6 as the headliner as well as the reunion show of Spider Monkey\, a Florida-based rock band comprised of Todd Horn (vocals)\, Tony Gialluca (bass)\, Garrett Coleman (guitar)\, and Randy Rockalotta (drums). Additional bands playing the festival will include Salt & Pine\, The Banned\, Kapowski\, Nerd Kill Overdrive\, Bad Dog Mama\, Ramona\, and Chillula. \nGeneral Admission tickets are $15. Children under 5 are free and children ages 5-13 are $5. VIP tickets are available for $25 and include a lounge area and VIP bar access. For vendor opportunities as well as sponsorship opportunities\, contact Jeanetta Salyer at ancientcityentertainmentgroup@gmail.com. AS IF! The 90’s Fest has room for 60 vendors\, 20 with electricity and 40 without\, and 12 food trucks.
URL:https://www.staugustineguesthouse.com/event/as-if-the-90s-fest/
LOCATION:Francis Field\, W. Castillo Drive\, St. Augustine\, FL\, 32084\, United States
CATEGORIES:Arts & Culture,Community,Concerts,Festivals,Live Entertainment,Music
ATTACH;FMTTYPE=image/jpeg:https://www.staugustineguesthouse.com/wp-content/uploads/2020/10/eve-6-as-if-90s-fest-st-augustine-2WIyJz.tmp_.jpg
END:VEVENT
END:VCALENDAR