BEGIN:VCALENDAR
VERSION:2.0
PRODID:-//St. Augustine Guest Houses - ECPv6.6.4.2//NONSGML v1.0//EN
CALSCALE:GREGORIAN
METHOD:PUBLISH
X-WR-CALNAME:St. Augustine Guest Houses
X-ORIGINAL-URL:https://www.staugustineguesthouse.com
X-WR-CALDESC:Events for St. Augustine Guest Houses
REFRESH-INTERVAL;VALUE=DURATION:PT1H
X-Robots-Tag:noindex
X-PUBLISHED-TTL:PT1H
BEGIN:VTIMEZONE
TZID:America/New_York
BEGIN:DAYLIGHT
TZOFFSETFROM:-0500
TZOFFSETTO:-0400
TZNAME:EDT
DTSTART:20200308T070000
END:DAYLIGHT
BEGIN:STANDARD
TZOFFSETFROM:-0400
TZOFFSETTO:-0500
TZNAME:EST
DTSTART:20201101T060000
END:STANDARD
END:VTIMEZONE
BEGIN:VEVENT
DTSTART;TZID=America/New_York:20200808T083000
DTEND;TZID=America/New_York:20200808T123000
DTSTAMP:20260426T020056
CREATED:20200709T061018Z
LAST-MODIFIED:20200808T134143Z
UID:13553-1596875400-1596889800@www.staugustineguesthouse.com
SUMMARY:Farmers Market at The Amp
DESCRIPTION:Join us every Saturday morning under the oaks out front for a gathering of St. Augustine’s finest growers\, artisans and artists. For 20 years this community event has brought together the region’s finest fresh food\, prepared goods and fine art. Shop for groceries and gifts\, grab a bite to eat or drink\, mingle with friends and stay for awhile to enjoy some old-time music from the Free Rangers on the Front Porch! \nMonthly Events at the Farmers Market: \n\n2nd and 4th Saturday of each month – The St. Johns County Public Library Bookmobile\n1st Saturday of each month at 9am – Yoga at the Market
URL:https://www.staugustineguesthouse.com/event/farmers-market-at-the-amp-24/
LOCATION:St. Augustine Amphitheatre\, 1340 A1A South\, St. Augustine
CATEGORIES:Community,Free,Health And Wellness,Live Entertainment
ATTACH;FMTTYPE=image/jpeg:https://www.staugustineguesthouse.com/wp-content/uploads/2018/05/st-augustine-farmers-market-at-amphitheatre_LR.jpg
END:VEVENT
BEGIN:VEVENT
DTSTART;TZID=America/New_York:20200808T091500
DTEND;TZID=America/New_York:20200808T091500
DTSTAMP:20260426T020056
CREATED:20200731T113941Z
LAST-MODIFIED:20200808T134144Z
UID:13920-1596878100-1596878100@www.staugustineguesthouse.com
SUMMARY:Liqui Moly ProWatercross National Tour
DESCRIPTION:The Liqui Moly ProWatercross National Tour will make its first trip to Northeast Florida with two days of racing at Vilano Beach on August 8-9. Airstream Ventures has partnered with the St. Augustine\, Ponte Vedra & The Beaches Visitors and Convention Bureau to bring the event to the area\, with more than 400 hotel rooms expected to be booked through the event and a nationally televised show recapping the event on CBS Sports Network. \n“We are happy to be hosting ProWatercross tour stop in St. Augustine\, one of the oldest cities in the country\,” said AJ Handler\, Chairman of ProWatercross. “Vilano Beach is a beautiful venue that will provide great views of the race and a unique experience for our racers.” \nThe races will be the third event for ProWatercross this season\, which is celebrating its 25th anniversary. Each day features more than six hours of action off the coast of the Atlantic Ocean\, with the entire course visible from the shore – making a unique experience for all attendees. \n“The Visitors and Convention Bureau is excited about the opportunity to show off our spectacular beaches and genuine hospitality to the ProWatercross teams and their families\,” said Richard Goldman\, President & CEO of the St. Augustine\, Ponte Vedra & The Beaches VCB. \nProWatercross is a not-for-profit that is focused on safety education\, preserving the environment\, and amateur competition. They open the event on Saturday morning with practice starting at 9:15 before races in the late afternoon. On Sunday\, the racing starts at 8:45am. \n“We are excited to add another sports event to our area in bringing ProWatercross to Vilano Beach\,” said Alan Verlander\, Founder and CEO of Airstream Ventures. “Thanks to AJ with ProWatercross and Richard and his team at the VCB\, we are going to provide a first-class experience and look forward to making this an annual event. Bringing another national televised event for our region continues the push to make our area of Florida a true sports destination.” \n  \nPhotography by Jessica Waters
URL:https://www.staugustineguesthouse.com/event/liqui-moly-prowatercross-national-tour/
LOCATION:Beach Access at Vilano Beach\, 2750 Anahma Drive\, St. Augustine\, FL\, 32084\, United States
CATEGORIES:Community,Health And Wellness,Live Entertainment
ATTACH;FMTTYPE=image/jpeg:https://www.staugustineguesthouse.com/wp-content/uploads/2020/07/Liqui-Moly-ProWatercross-National-Tour-vilano-beach-florida-3.jpg
END:VEVENT
END:VCALENDAR