BEGIN:VCALENDAR
VERSION:2.0
PRODID:-//St. Augustine Guest Houses - ECPv6.6.4.2//NONSGML v1.0//EN
CALSCALE:GREGORIAN
METHOD:PUBLISH
X-ORIGINAL-URL:https://www.staugustineguesthouse.com
X-WR-CALDESC:Events for St. Augustine Guest Houses
REFRESH-INTERVAL;VALUE=DURATION:PT1H
X-Robots-Tag:noindex
X-PUBLISHED-TTL:PT1H
BEGIN:VTIMEZONE
TZID:America/New_York
BEGIN:DAYLIGHT
TZOFFSETFROM:-0500
TZOFFSETTO:-0400
TZNAME:EDT
DTSTART:20200308T070000
END:DAYLIGHT
BEGIN:STANDARD
TZOFFSETFROM:-0400
TZOFFSETTO:-0500
TZNAME:EST
DTSTART:20201101T060000
END:STANDARD
END:VTIMEZONE
BEGIN:VEVENT
DTSTART;TZID=America/New_York:20200801T083000
DTEND;TZID=America/New_York:20200801T123000
DTSTAMP:20260426T020239
CREATED:20200708T174042Z
LAST-MODIFIED:20200801T115425Z
UID:13442-1596270600-1596285000@www.staugustineguesthouse.com
SUMMARY:Farmers Market at The Amp
DESCRIPTION:Join us every Saturday morning under the oaks out front for a gathering of St. Augustine’s finest growers\, artisans and artists. For 20 years this community event has brought together the region’s finest fresh food\, prepared goods and fine art. Shop for groceries and gifts\, grab a bite to eat or drink\, mingle with friends and stay for awhile to enjoy some old-time music from the Free Rangers on the Front Porch! \nMonthly Events at the Farmers Market: \n\n2nd and 4th Saturday of each month – The St. Johns County Public Library Bookmobile\n1st Saturday of each month at 9am – Yoga at the Market
URL:https://www.staugustineguesthouse.com/event/farmers-market-at-the-amp-23/
LOCATION:St. Augustine Amphitheatre\, 1340 A1A South\, St. Augustine
CATEGORIES:Community,Free,Health And Wellness,Live Entertainment
ATTACH;FMTTYPE=image/jpeg:https://www.staugustineguesthouse.com/wp-content/uploads/2018/05/st-augustine-farmers-market-at-amphitheatre_LR.jpg
END:VEVENT
BEGIN:VEVENT
DTSTART;TZID=America/New_York:20200801T150000
DTEND;TZID=America/New_York:20200801T190000
DTSTAMP:20260426T020239
CREATED:20200728T105450Z
LAST-MODIFIED:20200801T115427Z
UID:13868-1596294000-1596308400@www.staugustineguesthouse.com
SUMMARY:A Book and a Beer
DESCRIPTION:Old Coast Ales and local author Andrew Stack will be hosting “A Book and a Beer” to celebrate the release of Stack’s military thriller The Black Hand. Between 3 and 7pm\, come enjoy fine craft beers and meet the author. Andrew will be discussing his novel The Black Hand and signing copies. For each book purchased\, the author picks up the first round! \n“With all that is going on in our country\, I feel the release of ‘The Black Hand’ could not be more appropriately timed\,” Andy explained. “This novel is about how our differences make us stronger as a nation\, not weaker. The cast of heroes who save America are as diverse as the country itself. Every reader needs to check his or her unconscious biases at the door when entering the story of ‘The Black Hand.’ Otherwise\, they may discover that door is really a trap.” Andy’s extensive military career and global travels have given him a unique insight into how humans interact with one another. \n  \nTo learn more about Old Coast Ales\, visit www.oldcoastales.com. To read a synopsis and select excerpts from The Black Hand\, visit www.andrewstackauthor.com 
URL:https://www.staugustineguesthouse.com/event/a-book-and-a-beer/
LOCATION:Old Coast Ales\, 300 Anastasia Blvd\, Saint Augustine\, 32080
CATEGORIES:Arts & Culture,Community,Live Entertainment
ATTACH;FMTTYPE=image/jpeg:https://www.staugustineguesthouse.com/wp-content/uploads/2020/07/the-black-hand-andrew-sack.jpg
END:VEVENT
BEGIN:VEVENT
DTSTART;TZID=America/New_York:20200801T190000
DTEND;TZID=America/New_York:20200801T203000
DTSTAMP:20260426T020239
CREATED:20200729T110932Z
LAST-MODIFIED:20200801T115427Z
UID:13890-1596308400-1596313800@www.staugustineguesthouse.com
SUMMARY:Venardos Circus Livestream
DESCRIPTION:The Venardos Circus\, a touring Broadway-style animal free production\, is thrilled to announce it will return with a brand-new live online-only show via livestream on Saturday\, August 1\, 2020 . Venardos Circus will perform one show at 4pm PDT. No live audience seating will be available near the performance site\, just via the Internet. Access the livestream will require a ticket which run $16.50 per person available at their website here. Multi-pack discounts are available. Venardos Circus has pivoted from its usual format in response to COVID-19\, and this livestream offers as great opportunity for audiences across the country and around the world to join the live event and enjoy a little circus magic from anywhere in the world.
URL:https://www.staugustineguesthouse.com/event/venardos-circus-livestream/
LOCATION:VIRTUAL
CATEGORIES:Arts & Culture,For Kids,For Seniors,Live Entertainment
ATTACH;FMTTYPE=image/jpeg:https://www.staugustineguesthouse.com/wp-content/uploads/2020/07/Kevin-alone-with-mini-tent-setup.jpg
END:VEVENT
END:VCALENDAR