BEGIN:VCALENDAR
VERSION:2.0
PRODID:-//St. Augustine Guest Houses - ECPv6.6.4.2//NONSGML v1.0//EN
CALSCALE:GREGORIAN
METHOD:PUBLISH
X-ORIGINAL-URL:https://www.staugustineguesthouse.com
X-WR-CALDESC:Events for St. Augustine Guest Houses
REFRESH-INTERVAL;VALUE=DURATION:PT1H
X-Robots-Tag:noindex
X-PUBLISHED-TTL:PT1H
BEGIN:VTIMEZONE
TZID:America/New_York
BEGIN:DAYLIGHT
TZOFFSETFROM:-0500
TZOFFSETTO:-0400
TZNAME:EDT
DTSTART:20210314T070000
END:DAYLIGHT
BEGIN:STANDARD
TZOFFSETFROM:-0400
TZOFFSETTO:-0500
TZNAME:EST
DTSTART:20211107T060000
END:STANDARD
END:VTIMEZONE
BEGIN:VEVENT
DTSTART;TZID=America/New_York:20210701T170000
DTEND;TZID=America/New_York:20210701T200000
DTSTAMP:20260425T032544
CREATED:20210402T221902Z
LAST-MODIFIED:20210701T034801Z
UID:15740-1625158800-1625169600@www.staugustineguesthouse.com
SUMMARY:Coconut Barrel Farmer’s Market
DESCRIPTION:Every Thursday Evening from 5-8 pm. Enjoy Food\, Music\, Shopping & Fun! The Artisan Market will also have extended hours. Come join the fun! See you at The Barrel!
URL:https://www.staugustineguesthouse.com/event/coconut-barrel-farmers-market-52/
LOCATION:Coconut Barrel\, 3175 US Hwy 1 S\, Saint Augustine\, FL\, 32086\, United States
CATEGORIES:Arts & Culture,Family,Free,Live Entertainment
ATTACH;FMTTYPE=image/jpeg:https://www.staugustineguesthouse.com/wp-content/uploads/2021/03/Untitled-1-IW0dgm.tmp_.jpg
ORGANIZER;CN="Coconut Barrel":MAILTO:coconutbarrel@gmail.com
END:VEVENT
BEGIN:VEVENT
DTSTART;TZID=America/New_York:20210708T170000
DTEND;TZID=America/New_York:20210708T200000
DTSTAMP:20260425T032544
CREATED:20210409T233325Z
LAST-MODIFIED:20210708T040259Z
UID:15813-1625763600-1625774400@www.staugustineguesthouse.com
SUMMARY:Coconut Barrel Farmer’s Market
DESCRIPTION:Every Thursday Evening from 5-8 pm. Enjoy Food\, Music\, Shopping & Fun! The Artisan Market will also have extended hours. Come join the fun! See you at The Barrel!
URL:https://www.staugustineguesthouse.com/event/coconut-barrel-farmers-market-53/
LOCATION:Coconut Barrel\, 3175 US Hwy 1 S\, Saint Augustine\, FL\, 32086\, United States
CATEGORIES:Arts & Culture,Family,Free,Live Entertainment
ATTACH;FMTTYPE=image/jpeg:https://www.staugustineguesthouse.com/wp-content/uploads/2021/03/Untitled-1-IW0dgm.tmp_.jpg
ORGANIZER;CN="Coconut Barrel":MAILTO:coconutbarrel@gmail.com
END:VEVENT
BEGIN:VEVENT
DTSTART;TZID=America/New_York:20210715T170000
DTEND;TZID=America/New_York:20210715T200000
DTSTAMP:20260425T032544
CREATED:20210416T234906Z
LAST-MODIFIED:20210714T043413Z
UID:15868-1626368400-1626379200@www.staugustineguesthouse.com
SUMMARY:Coconut Barrel Farmer’s Market
DESCRIPTION:Every Thursday Evening from 5-8 pm. Enjoy Food\, Music\, Shopping & Fun! The Artisan Market will also have extended hours. Come join the fun! See you at The Barrel!
URL:https://www.staugustineguesthouse.com/event/coconut-barrel-farmers-market-54/
LOCATION:Coconut Barrel\, 3175 US Hwy 1 S\, Saint Augustine\, FL\, 32086\, United States
CATEGORIES:Arts & Culture,Family,Free,Live Entertainment
ATTACH;FMTTYPE=image/jpeg:https://www.staugustineguesthouse.com/wp-content/uploads/2021/03/Untitled-1-IW0dgm.tmp_.jpg
ORGANIZER;CN="Coconut Barrel":MAILTO:coconutbarrel@gmail.com
END:VEVENT
BEGIN:VEVENT
DTSTART;TZID=America/New_York:20210722T170000
DTEND;TZID=America/New_York:20210722T200000
DTSTAMP:20260425T032544
CREATED:20210423T000449Z
LAST-MODIFIED:20210720T170257Z
UID:15889-1626973200-1626984000@www.staugustineguesthouse.com
SUMMARY:Coconut Barrel Farmer’s Market
DESCRIPTION:Every Thursday Evening from 5-8 pm. Enjoy Food\, Music\, Shopping & Fun! The Artisan Market will also have extended hours. Come join the fun! See you at The Barrel!
URL:https://www.staugustineguesthouse.com/event/coconut-barrel-farmers-market-55/
LOCATION:Coconut Barrel\, 3175 US Hwy 1 S\, Saint Augustine\, FL\, 32086\, United States
CATEGORIES:Arts & Culture,Family,Free,Live Entertainment
ATTACH;FMTTYPE=image/jpeg:https://www.staugustineguesthouse.com/wp-content/uploads/2021/03/Untitled-1-IW0dgm.tmp_.jpg
ORGANIZER;CN="Coconut Barrel":MAILTO:coconutbarrel@gmail.com
END:VEVENT
BEGIN:VEVENT
DTSTART;TZID=America/New_York:20210729T170000
DTEND;TZID=America/New_York:20210729T200000
DTSTAMP:20260425T032544
CREATED:20210430T000327Z
LAST-MODIFIED:20210720T170308Z
UID:15940-1627578000-1627588800@www.staugustineguesthouse.com
SUMMARY:Coconut Barrel Farmer’s Market
DESCRIPTION:Every Thursday Evening from 5-8 pm. Enjoy Food\, Music\, Shopping & Fun! The Artisan Market will also have extended hours. Come join the fun! See you at The Barrel!
URL:https://www.staugustineguesthouse.com/event/coconut-barrel-farmers-market-56/
LOCATION:Coconut Barrel\, 3175 US Hwy 1 S\, Saint Augustine\, FL\, 32086\, United States
CATEGORIES:Arts & Culture,Family,Free,Live Entertainment
ATTACH;FMTTYPE=image/jpeg:https://www.staugustineguesthouse.com/wp-content/uploads/2021/03/Untitled-1-IW0dgm.tmp_.jpg
ORGANIZER;CN="Coconut Barrel":MAILTO:coconutbarrel@gmail.com
END:VEVENT
END:VCALENDAR