BEGIN:VCALENDAR
VERSION:2.0
PRODID:-//St. Augustine Guest Houses - ECPv6.6.4.2//NONSGML v1.0//EN
CALSCALE:GREGORIAN
METHOD:PUBLISH
X-WR-CALNAME:St. Augustine Guest Houses
X-ORIGINAL-URL:https://www.staugustineguesthouse.com
X-WR-CALDESC:Events for St. Augustine Guest Houses
REFRESH-INTERVAL;VALUE=DURATION:PT1H
X-Robots-Tag:noindex
X-PUBLISHED-TTL:PT1H
BEGIN:VTIMEZONE
TZID:America/New_York
BEGIN:DAYLIGHT
TZOFFSETFROM:-0500
TZOFFSETTO:-0400
TZNAME:EDT
DTSTART:20180311T070000
END:DAYLIGHT
BEGIN:STANDARD
TZOFFSETFROM:-0400
TZOFFSETTO:-0500
TZNAME:EST
DTSTART:20181104T060000
END:STANDARD
END:VTIMEZONE
BEGIN:VEVENT
DTSTART;TZID=America/New_York:20180824T173000
DTEND;TZID=America/New_York:20180824T193000
DTSTAMP:20260423T092516
CREATED:20190721T033555Z
LAST-MODIFIED:20190721T033555Z
UID:6936-1535131800-1535139000@www.staugustineguesthouse.com
SUMMARY:Laughter Mingler
DESCRIPTION:Is this a community gathering? Yes. \nIs this an improv event? Yes. \nWill there be yoga? Yes. \nHow is this different than a regular community gathering\, a regular improv event or a regular yoga class? \nA Laughter Mingler has these agreements + activities: \n*Minglers must turn over their phones upon arrival. At a Laughter Mingler\, minglers will be interacting in real life\, in real time\, with real people. \n*Minglers must “touch” every other mingler meaning all minglers will interact with every other mingler\, so all minglers will cross pollinate by the end of the evening. (Yes\, there will be facilitated activities to make mingling a breeze!) \n*Minglers laugh and breathe – together! No down dog or improv experience required! \n(Not sure if this event is for you? Ask yourself … “Am I looking for new friends\, a new hobby\, a new job\, a new way of interacting\, a new experience\, a new adventure\, new adventure buddies\, new fun\, new games\, a new way to laugh\, a new way of being in the world?” If you answered\, “yes” to any of these questions\, you want to be at the Laughter Mingler.) \nFor information about other improv + laughter events\, shows and classes in St. Augustine\, visit www.adventure-project.com.
URL:https://www.staugustineguesthouse.com/event/laughter-mingler/
LOCATION:Now & Zen Yoga Studio\, 224 San Marco Avenue\, St. Augustine\, 32084\, United States
CATEGORIES:Community,Health And Wellness
ATTACH;FMTTYPE=image/jpeg:https://www.staugustineguesthouse.com/wp-content/uploads/2019/07/Laughter-Mingler.jpg
ORGANIZER;CN="The Adventure Project":MAILTO:amy@adventure-project.com
END:VEVENT
BEGIN:VEVENT
DTSTART;VALUE=DATE:20180824
DTEND;VALUE=DATE:20180827
DTSTAMP:20260423T092516
CREATED:20190721T033555Z
LAST-MODIFIED:20190721T033555Z
UID:6934-1535068800-1535327999@www.staugustineguesthouse.com
SUMMARY:24th Annual Skimboarding Tournament
DESCRIPTION:The annual Skimboarding Pro/Am Tournament returns in full force this year and Vilano Beach will once again proudly host the event. The tournament is family-friendly and will span the entire weekend from sunrise to sunset. The tournament will feature both pro and amateur divisions. Anyone is welcome to join in or watch as the top ranking athletes from around the world gather to ride the waves of Vilano.
URL:https://www.staugustineguesthouse.com/event/24th-annual-skimboarding-tournament/
LOCATION:Beach Access at Vilano Beach\, 2750 Anahma Drive\, St. Augustine\, FL\, 32084\, United States
CATEGORIES:Community,Family,Health And Wellness
ATTACH;FMTTYPE=image/jpeg:https://www.staugustineguesthouse.com/wp-content/uploads/2019/07/florida-pro-am-skimboarding-tournament-2017.jpg
END:VEVENT
BEGIN:VEVENT
DTSTART;TZID=America/New_York:20180823T180000
DTEND;TZID=America/New_York:20180823T210000
DTSTAMP:20260423T092516
CREATED:20190721T033553Z
LAST-MODIFIED:20190721T033553Z
UID:6927-1535047200-1535058000@www.staugustineguesthouse.com
SUMMARY:Moonlight Kayak Trip
DESCRIPTION:Come explore Trout Creek with our Park Naturalists in a whole new light\, the moonlight. During this trip\, participants will learn about the unique history of our local area as well as the creatures of the night. \nCost – SJC resident providing own boat: $20 per person; Non-SJC resident providing own boat: $30 per person; SJC resident using a County boat: $40 per person; Non-SJC resident using a County boat: $50 per person. \nRegistration – Please contact Kelly Ussia at kussia@sjcfl.us or 904.209.0335. To set up a reservation\, include a phone number\, email\, date of the trip you would like to attend\, residency status\, and if you will be using a county kayak.
URL:https://www.staugustineguesthouse.com/event/moonlight-kayak-trip/
LOCATION:Trout Creek Park\, 6795 Collier Road\, St. Augustine\, FL\, 32092\, United States
CATEGORIES:Community,Health And Wellness
ATTACH;FMTTYPE=image/jpeg:https://www.staugustineguesthouse.com/wp-content/uploads/2019/01/kayak-tours-st-johns-county-parks-and-recreation.jpg
END:VEVENT
BEGIN:VEVENT
DTSTART;TZID=America/New_York:20180818T130000
DTEND;TZID=America/New_York:20180818T130000
DTSTAMP:20260423T092516
CREATED:20190721T033550Z
LAST-MODIFIED:20190721T033550Z
UID:6910-1534597200-1534597200@www.staugustineguesthouse.com
SUMMARY:SurfQuest
DESCRIPTION:SurfQuest is bringing more and more people with Intellectual and Development Disabilities together with a growing cadre of active volunteers to introduce the fun and comradery of surfing. There is true joy in seeing the men\, women\, and children cheering\, smiling and hurrying back for more\, wave after wave. \nSurfQuest is a free monthly beach-day for anyone with a disability.\nAll ages and disabilities are welcome. And together\, SurfQuest is Ohana. \nSurfQuest empowers people with disabilities by providing adaptive surfing instruction and therapeutic educational programs on water recreation and enriches lives by assisting families to access the beach and ocean together in a barrier-free environment. \nSurfQuest acts as an advocate for accessibility to the water that will allow people with limited mobility to reach the beach (i.e. wheelchairs\, assisted devices\, strollers\, etc.). \nSurfQuest provides adaptive equipment with education and training for the advancement of adaptive surfing. \nSurfQuest develops partnerships to expand awareness and support of safe adaptive water recreation.
URL:https://www.staugustineguesthouse.com/event/surfquest-7/
LOCATION:Frank B. Butler Park\, 399 Riverside Boulevard\, St. Augustine\, FL\, 32080\, United States
CATEGORIES:Community,Family,For Kids,Free,Health And Wellness
ATTACH;FMTTYPE=image/jpeg:https://www.staugustineguesthouse.com/wp-content/uploads/2018/05/surfing_shutterstock_339953774.jpg
END:VEVENT
BEGIN:VEVENT
DTSTART;TZID=America/New_York:20180818T090000
DTEND;TZID=America/New_York:20180818T170000
DTSTAMP:20260423T092516
CREATED:20190721T033550Z
LAST-MODIFIED:20190721T033550Z
UID:6909-1534582800-1534611600@www.staugustineguesthouse.com
SUMMARY:ACA Quickstart Kayak Course
DESCRIPTION:Now is your chance to learn all you need to know about kayaking\, so you can get out on the water on your own. This course will focus on the fundamentals of kayaking including kayak designs\, trip planning\, water safety\, basic paddle strokes\, and rescue techniques taught by two Level 2 Certified ACA instructors. Cost is $80 per person. When setting up a reservation\, include a phone number\, email\, and if you will be using a county kayak. \nkussia@sjcfl.us or (904) 209-0335
URL:https://www.staugustineguesthouse.com/event/aca-quickstart-kayak-course/
LOCATION:Trout Creek Community Center\, 6795 Collier Road\, St. Augustine\, FL\, 32092\, United States
CATEGORIES:Community,Educational,Health And Wellness
ATTACH;FMTTYPE=image/jpeg:https://www.staugustineguesthouse.com/wp-content/uploads/2019/01/kayak-tours-st-johns-county-parks-and-recreation.jpg
END:VEVENT
BEGIN:VEVENT
DTSTART;TZID=America/New_York:20180818T080000
DTEND;TZID=America/New_York:20180818T080000
DTSTAMP:20260423T092516
CREATED:20190721T032545Z
LAST-MODIFIED:20190721T032545Z
UID:6733-1534579200-1534579200@www.staugustineguesthouse.com
SUMMARY:Alex’s Capes & Tiaras 5K
DESCRIPTION:Runners\, walkers\, and wheelchairs are welcome at this third annual 5K that honors Alex Landis\, a young woman who made a tremendous difference in helping those who suffer from neuromuscular disabilities (NMD)\, despite her own physical disadvantages. Never one to shy away from glitter and glitz\, the race honors Alex with a 5K\, so bring your capes and tiaras and run for fun…or for a good time! Day-of Registration is $35. All proceeds benefit NMD United.
URL:https://www.staugustineguesthouse.com/event/alexs-capes-tiaras-5k-2/
LOCATION:Riverview Club at St. Augustine Shores\, 790 Christina Drive\, St. Augustine\, 32086\, United States
CATEGORIES:Community,Family,Fundraisers,Health And Wellness
ATTACH;FMTTYPE=image/jpeg:https://www.staugustineguesthouse.com/wp-content/uploads/2019/07/alexs-capes-and-tiaras-5k.jpg
END:VEVENT
BEGIN:VEVENT
DTSTART;TZID=America/New_York:20180817T160000
DTEND;TZID=America/New_York:20180817T164500
DTSTAMP:20260423T092516
CREATED:20190721T033550Z
LAST-MODIFIED:20190721T033550Z
UID:6906-1534521600-1534524300@www.staugustineguesthouse.com
SUMMARY:Yoga for Kids at the Beach
DESCRIPTION:Learn to relax your mind and body with some simple\, kid-friendly stretches\, exercises and activities. Please wear loose clothing and bring your own towel or mat. This program is FREE and open to kids ages 5 to 12. For more information\, contact Kelly Ussia at 904.209.0335 or kussia@sjcfl.us. Registration is required.
URL:https://www.staugustineguesthouse.com/event/yoga-for-kids-at-the-beach/
LOCATION:St. Johns County Pier Park\, 350 A1A Beach Blvd\, St. Augustine\, FL\, 32080\, United States
CATEGORIES:Community,Family,For Kids,Free,Health And Wellness
ATTACH;FMTTYPE=image/jpeg:https://www.staugustineguesthouse.com/wp-content/uploads/2018/10/yoga-for-kids-at-the-beach-st-augustine.jpg
END:VEVENT
BEGIN:VEVENT
DTSTART;VALUE=DATE:20180813
DTEND;VALUE=DATE:20180816
DTSTAMP:20260423T092516
CREATED:20190721T033544Z
LAST-MODIFIED:20190721T033544Z
UID:6883-1534118400-1534377599@www.staugustineguesthouse.com
SUMMARY:Coastal Restoration Course
DESCRIPTION:The Parks and Recreation Department has partnered with Duval County IFAS Extension to offer you the Florida Master Naturalist Program’s Coastal Restoration Course. This program is for adults of all knowledge levels\, and affords them the opportunity to learn more about living shorelines. The course is comprised of classroom presentations\, hands-on activities\, and field trips and is taught by certified instructors Kelly Ussia and Carol Wyninger. For information and to register\, contact Kelly at the email or phone below. \nkussia@sjcfl.us or (904) 209-0335
URL:https://www.staugustineguesthouse.com/event/coastal-restoration-course/
LOCATION:GTM Research Reserve\, 505 Guana River Rd\, Ponte Vedra
CATEGORIES:Community,Educational,Health And Wellness
ATTACH;FMTTYPE=image/jpeg:https://www.staugustineguesthouse.com/wp-content/uploads/2019/07/City-to-Sea-Grant-1-photo-credit-St.-Johns-County-Parks-and-Recreation-Department.jpg
END:VEVENT
BEGIN:VEVENT
DTSTART;TZID=America/New_York:20180809T104500
DTEND;TZID=America/New_York:20180809T114500
DTSTAMP:20260423T092516
CREATED:20190721T033458Z
LAST-MODIFIED:20190721T033458Z
UID:6871-1533811500-1533815100@www.staugustineguesthouse.com
SUMMARY:FREE Introductory Pole Walking Clinic
DESCRIPTION:You’re invited to a FREE Introductory Pole Walking Clinic where you will learn the history and the many amazing benefits of Fitness Pole Walking! After a brief demonstration of proper technique\, you will have the opportunity to Pole Walk with a pair of the provided KeenFit Poles. Fitness Pole Walking is easy and fun for all ages and capabilities and will turn even a simple walk around the block into an effective efficient aerobic total body workout. CLINIC PRE-REGISTRATION IS REQUIRED.
URL:https://www.staugustineguesthouse.com/event/free-introductory-pole-walking-clinic-12/
LOCATION:Eddie Vickers Park\, 399 Riberia Street\, St. Augustine\, FL\, 32084\, United States
CATEGORIES:Community,Educational,For Seniors,Free,Health And Wellness
ATTACH;FMTTYPE=image/jpeg:https://www.staugustineguesthouse.com/wp-content/uploads/2018/05/SV-and-Ed-For-Online-Sites-1.jpg
ORGANIZER;CN="Unnamed Organizer":MAILTO:leonardisnursery@yahoo.com
END:VEVENT
BEGIN:VEVENT
DTSTART;TZID=America/New_York:20180808T100000
DTEND;TZID=America/New_York:20180808T113000
DTSTAMP:20260423T092516
CREATED:20190721T033455Z
LAST-MODIFIED:20190721T033455Z
UID:6864-1533722400-1533727800@www.staugustineguesthouse.com
SUMMARY:Beach Cleanup at Vilano
DESCRIPTION:The community comes together for good as we join St. Johns County Park Naturalist Kelly Ussia in being good stewards of our beaches and participate in a beach cleanup at Vilano Beach! All necessary supplies will be provided. Plan accordingly for water\, weather\, sun\, and bugs. This program is free and open to the public. For more information\, contact Kelly Ussia at the email or phone number below. \nkussia@sjcfl.us or (904) 209-0335
URL:https://www.staugustineguesthouse.com/event/beach-cleanup-at-vilano/
LOCATION:Beach Access at Vilano Beach\, 2750 Anahma Drive\, St. Augustine\, FL\, 32084\, United States
CATEGORIES:Community,Family,Free,Health And Wellness
ATTACH;FMTTYPE=image/jpeg:https://www.staugustineguesthouse.com/wp-content/uploads/2019/07/vilano-beach-st-augustine-florida.jpg
END:VEVENT
BEGIN:VEVENT
DTSTART;TZID=America/New_York:20180721T130000
DTEND;TZID=America/New_York:20180721T130000
DTSTAMP:20260423T092516
CREATED:20180501T172623Z
LAST-MODIFIED:20180501T172623Z
UID:3034-1532178000-1532178000@www.staugustineguesthouse.com
SUMMARY:SurfQuest
DESCRIPTION:SurfQuest is bringing more and more people with Intellectual and Development Disabilities together with a growing cadre of active volunteers to introduce the fun and comradery of surfing. There is true joy in seeing the men\, women\, and children cheering\, smiling and hurrying back for more\, wave after wave. \nSurfQuest is a free monthly beach-day for anyone with a disability.\nAll ages and disabilities are welcome. And together\, SurfQuest is Ohana. \nSurfQuest empowers people with disabilities by providing adaptive surfing instruction and therapeutic educational programs on water recreation and enriches lives by assisting families to access the beach and ocean together in a barrier-free environment. \nSurfQuest acts as an advocate for accessibility to the water that will allow people with limited mobility to reach the beach (i.e. wheelchairs\, assisted devices\, strollers\, etc.). \nSurfQuest provides adaptive equipment with education and training for the advancement of adaptive surfing. \nSurfQuest develops partnerships to expand awareness and support of safe adaptive water recreation.
URL:https://www.staugustineguesthouse.com/event/surfquest-3/
LOCATION:Frank B. Butler Park\, 399 Riverside Boulevard\, St. Augustine\, FL\, 32080\, United States
CATEGORIES:Community,Family,For Kids,Free,Health And Wellness
ATTACH;FMTTYPE=image/jpeg:https://www.staugustineguesthouse.com/wp-content/uploads/2018/05/surfing_shutterstock_339953774.jpg
END:VEVENT
BEGIN:VEVENT
DTSTART;TZID=America/New_York:20180616T130000
DTEND;TZID=America/New_York:20180616T130000
DTSTAMP:20260423T092516
CREATED:20180501T172608Z
LAST-MODIFIED:20180501T172608Z
UID:2987-1529154000-1529154000@www.staugustineguesthouse.com
SUMMARY:SurfQuest
DESCRIPTION:SurfQuest is bringing more and more people with Intellectual and Development Disabilities together with a growing cadre of active volunteers to introduce the fun and comradery of surfing. There is true joy in seeing the men\, women\, and children cheering\, smiling and hurrying back for more\, wave after wave. \nSurfQuest is a free monthly beach-day for anyone with a disability.\nAll ages and disabilities are welcome. And together\, SurfQuest is Ohana. \nSurfQuest empowers people with disabilities by providing adaptive surfing instruction and therapeutic educational programs on water recreation and enriches lives by assisting families to access the beach and ocean together in a barrier-free environment. \nSurfQuest acts as an advocate for accessibility to the water that will allow people with limited mobility to reach the beach (i.e. wheelchairs\, assisted devices\, strollers\, etc.). \nSurfQuest provides adaptive equipment with education and training for the advancement of adaptive surfing. \nSurfQuest develops partnerships to expand awareness and support of safe adaptive water recreation.
URL:https://www.staugustineguesthouse.com/event/surfquest-2/
LOCATION:Frank B. Butler Park\, 399 Riverside Boulevard\, St. Augustine\, FL\, 32080\, United States
CATEGORIES:Community,Family,For Kids,Free,Health And Wellness
ATTACH;FMTTYPE=image/jpeg:https://www.staugustineguesthouse.com/wp-content/uploads/2018/05/surfing_shutterstock_339953774.jpg
END:VEVENT
BEGIN:VEVENT
DTSTART;TZID=America/New_York:20180526T080000
DTEND;TZID=America/New_York:20180526T080000
DTSTAMP:20260423T092516
CREATED:20180501T161604Z
LAST-MODIFIED:20180501T172602Z
UID:2880-1527321600-1527321600@www.staugustineguesthouse.com
SUMMARY:Viking 5k
DESCRIPTION:The Viking 5K Run is a fun-filled event welcoming runners\, health-walkers\, families\, and anyone who seeks to raise their heart rates and support St. Johns River State College’s athletic programs. All proceeds are deposited by the SJR State Foundation and administered by the SJR State Athletic Association according to the needs of the athletic department and student-athletes.
URL:https://www.staugustineguesthouse.com/event/viking-5k/
LOCATION:Bronson-Mulholland House\, 100 Madison Street\, Palatka\, FL\, 32177\, United States
CATEGORIES:Community,Fundraisers,Health And Wellness
ATTACH;FMTTYPE=image/jpeg:https://www.staugustineguesthouse.com/wp-content/uploads/2018/05/viking-5k-st-johns-river-state-college.jpg
END:VEVENT
BEGIN:VEVENT
DTSTART;TZID=America/New_York:20180519T130000
DTEND;TZID=America/New_York:20180519T130000
DTSTAMP:20260423T092516
CREATED:20180501T161556Z
LAST-MODIFIED:20180501T172558Z
UID:2856-1526734800-1526734800@www.staugustineguesthouse.com
SUMMARY:SurfQuest
DESCRIPTION:SurfQuest is bringing more and more people with Intellectual and Development Disabilities together with a growing cadre of active volunteers to introduce the fun and comradery of surfing. There is true joy in seeing the men\, women\, and children cheering\, smiling and hurrying back for more\, wave after wave. \nSurfQuest is a free monthly beach-day for anyone with a disability.\nAll ages and disabilities are welcome. And together\, SurfQuest is Ohana. \nSurfQuest empowers people with disabilities by providing adaptive surfing instruction and therapeutic educational programs on water recreation and enriches lives by assisting families to access the beach and ocean together in a barrier-free environment. \nSurfQuest acts as an advocate for accessibility to the water that will allow people with limited mobility to reach the beach (i.e. wheelchairs\, assisted devices\, strollers\, etc.). \nSurfQuest provides adaptive equipment with education and training for the advancement of adaptive surfing. \nSurfQuest develops partnerships to expand awareness and support of safe adaptive water recreation.
URL:https://www.staugustineguesthouse.com/event/surfquest/
LOCATION:Frank B. Butler Park\, 399 Riverside Boulevard\, St. Augustine\, FL\, 32080\, United States
CATEGORIES:Community,Family,For Kids,Free,Health And Wellness
ATTACH;FMTTYPE=image/jpeg:https://www.staugustineguesthouse.com/wp-content/uploads/2018/05/surfing_shutterstock_339953774.jpg
END:VEVENT
BEGIN:VEVENT
DTSTART;TZID=America/New_York:20180519T080000
DTEND;TZID=America/New_York:20180519T080000
DTSTAMP:20260423T092516
CREATED:20180501T161554Z
LAST-MODIFIED:20180501T172557Z
UID:2844-1526716800-1526716800@www.staugustineguesthouse.com
SUMMARY:5 for the 50
DESCRIPTION:A 5K Run/Walk supporting the 50 million Americans suffering from an autoimmune disease\, 5 for the 50 supports both the Lupus Foundation of America and the AARDA. Race director Jimmie was diagnosed with Lupus Nephritis at the age of 22\, so the former beneficiary is very close to his heart. The race day entry fee is $30. There will be awards for the top three finishers in 15 age categories.
URL:https://www.staugustineguesthouse.com/event/5-for-the-50/
LOCATION:University of St. Augustine\, 1 University Blvd.\, St. Augustine
CATEGORIES:Community,Family,Fundraisers,Health And Wellness
ATTACH;FMTTYPE=image/jpeg:https://www.staugustineguesthouse.com/wp-content/uploads/2018/05/5-for-the-50-runwalk-st-augustine.jpg
END:VEVENT
BEGIN:VEVENT
DTSTART;TZID=America/New_York:20180510T104500
DTEND;TZID=America/New_York:20180510T114500
DTSTAMP:20260423T092516
CREATED:20180501T161535Z
LAST-MODIFIED:20180501T172549Z
UID:2774-1525949100-1525952700@www.staugustineguesthouse.com
SUMMARY:FREE Introductory Pole Walking Clinic
DESCRIPTION:You’re invited to a FREE Introductory Pole Walking Clinic where you will learn the history and the many amazing benefits of Fitness Pole Walking! After a brief demonstration of proper technique\, you will have the opportunity to Pole Walk with a pair of the provided KeenFit Poles. Fitness Pole Walking is easy and fun for all ages and capabilities and will turn even a simple walk around the block into an effective efficient aerobic total body workout. CLINIC PRE-REGISTRATION IS REQUIRED.
URL:https://www.staugustineguesthouse.com/event/free-introductory-pole-walking-clinic/
LOCATION:Eddie Vickers Park\, 399 Riberia Street\, St. Augustine\, FL\, 32084\, United States
CATEGORIES:Community,Educational,For Seniors,Free,Health And Wellness
ATTACH;FMTTYPE=image/jpeg:https://www.staugustineguesthouse.com/wp-content/uploads/2018/05/SV-and-Ed-For-Online-Sites-1.jpg
ORGANIZER;CN="Unnamed Organizer":MAILTO:leonardisnursery@yahoo.com
END:VEVENT
BEGIN:VEVENT
DTSTART;TZID=America/New_York:20180505T160000
DTEND;TZID=America/New_York:20180505T200000
DTSTAMP:20260423T092516
CREATED:20180501T161528Z
LAST-MODIFIED:20180501T172546Z
UID:2745-1525536000-1525550400@www.staugustineguesthouse.com
SUMMARY:Derby Run for Community Hospice & Palliative Care
DESCRIPTION:Celebrate the 144th running of the Kentucky Derby in Old Florida style at St. Augustine’s Tringali Barn. Hats and bowties. Horns and hooves. Juleps and jockeys. All the tradition and splendor of the most exciting two minutes in sports in support of Community Hospice & Palliative Care. Help provide compassionate care to those in need.
URL:https://www.staugustineguesthouse.com/event/derby-run-for-community-hospice-palliative-care/
LOCATION:Tringali Farm\, One mile South of 206 on US 1 South\, St. Augustine\, FL\, 32080\, United States
CATEGORIES:Community,Fundraisers,Health And Wellness,Live Entertainment,Music
ATTACH;FMTTYPE=image/jpeg:https://www.staugustineguesthouse.com/wp-content/uploads/2018/05/DerbyRun-logo-2017-logo.jpg
ORGANIZER;CN="Community Hospice &amp%3B Palliative Care":MAILTO:mmccormick@communityhospice.com
END:VEVENT
BEGIN:VEVENT
DTSTART;TZID=America/New_York:20180505T080000
DTEND;TZID=America/New_York:20180505T080000
DTSTAMP:20260423T092516
CREATED:20180501T161528Z
LAST-MODIFIED:20180501T172546Z
UID:2741-1525507200-1525507200@www.staugustineguesthouse.com
SUMMARY:The Players Donna 5K
DESCRIPTION:Presented to raise money for breast cancer awareness\, the race takes participants through The Players Stadium Course at TPC Sawgrass. The start line is at the world-famous Island Green at hole 17\, and then continues along the cart paths through all the back nine holes\, passing the TPC Sawgrass Clubhouse. A post-race ceremony will take place at The Grove. All participants will receive a grounds ticket to the Players Championship. Adult entrance is $50. Youth entry is $25.
URL:https://www.staugustineguesthouse.com/event/the-players-donna-5k/
LOCATION:TPC Sawgrass\, 100 Championship Way\, Ponte Vedra Beach\, FL\, 32082\, United States
CATEGORIES:Community,Family,Health And Wellness
ATTACH;FMTTYPE=image/jpeg:https://www.staugustineguesthouse.com/wp-content/uploads/2018/05/the-players-donna-5k.jpg
END:VEVENT
BEGIN:VEVENT
DTSTART;VALUE=DATE:20180501
DTEND;VALUE=DATE:20180502
DTSTAMP:20260423T092516
CREATED:20180501T161516Z
LAST-MODIFIED:20180501T172436Z
UID:2691-1525132800-1525219199@www.staugustineguesthouse.com
SUMMARY:St. Augustine Race Week
DESCRIPTION:It’s time once again to celebrate one of the city’s favorite pastimes – sailing. During the 2018 St. Augustine Race Week\, Sailors from Savannah to Daytona are scheduled to race offshore in yachts from 24 to 50 feet long. In addition to the multiple sailing events\, post and pre-race socials and parties will be hosted at the Yacht Club and along the bayfront. The event is free for spectators.
URL:https://www.staugustineguesthouse.com/event/st-augustine-race-week/
LOCATION:St. Augustine Yacht Club\, 442 Ocean Vista Avenue\, St. Augustine\, FL\, 32080\, United States
CATEGORIES:Community,Health And Wellness,Live Entertainment
ATTACH;FMTTYPE=image/jpeg:https://www.staugustineguesthouse.com/wp-content/uploads/2018/05/P5060043.jpg
END:VEVENT
END:VCALENDAR